BEGIN:VCALENDAR
VERSION:2.0
PRODID:-//Ryde Persian School - ECPv4.7.4//NONSGML v1.0//EN
CALSCALE:GREGORIAN
METHOD:PUBLISH
X-WR-CALNAME:Ryde Persian School
X-ORIGINAL-URL:http://rydepersianschool.org.au/en
X-WR-CALDESC:Events for Ryde Persian School
BEGIN:VEVENT
DTSTART;TZID=UTC+10.5:20190209T080000
DTEND;TZID=UTC+10.5:20190209T133000
DTSTAMP:20190227T134404
CREATED:20190128T080349Z
LAST-MODIFIED:20190128T080546Z
UID:2032-1549699200-1549719000@rydepersianschool.org.au
SUMMARY:Term 1 2019
DESCRIPTION:\n    \n    \n        \n            \n                \n                \n                \n                \n                \n                \n                \n                \n            \n        \n        \n    \n \n  \n  \n  \nSchool Opening and registration for Term 1 \n
URL:http://rydepersianschool.org.au/en/event/term-1-2019/
LOCATION:Ryde Persian School\, 2 Tucker Street\, Ryde\, NSW\, 2112\, Australia
END:VEVENT
END:VCALENDAR